Workbook

Sheet Report Instructions
A1: Last Update: | C1: 46031
A3: Worksheet | B3: Description/Instructions
A4: Expense Report | B4: Expense reimbursement request form to return to LADCO with all required documentation
B5: All fields in the Expense Report tab must be completed to be reimbursed for expenses
B6: Mailing address is the address to which reimbursement checks will be mailed.
B7: The Start and End fields are the date/time of the departure and return from a trip (to home or business).
B8: Location-specific GSA rates are found on the GSA website: https://www.gsa.gov/travel/plan-book/per-diem-rates
B9: Once the correct per diem rate is entered in cell C14 (based on the applicable GSA per diem location),
B10: to received a meal expense reimbursement the traveler must place an "X" in column "G" next to each eligible meal period.
B11: The form will automatically calculate the daily total and cumulative total reimbursement amounts. Do not edit column J
B12: Traveler initials are required in cell I59 to complete the form
B13: Meal receipts are not required; however, receipts are required for all other reimbursable expenses, including ride-sharing, parking, and similar costs.
A15: FY26 M&IE Rates | B15: Meal and incidental reimbursement rates | F15: https://www.gsa.gov/travel/plan-book/per-diem-rates
B16: Check the GSA Website to determine the applicable per diem rate for the travel destination.
A18: Meal Breakdown | B18: Description of how travel times are used to calculate the allowable meal amounts.
A20: Sample Report | B20: Example completed Expense Report with all required fields completed
A34: If mileage is claimed, a MapQuest route map must be included showing the "from" and "to" addresses with mileage.
A36: The fourth tab contains a "Sample Expense Report" for reference.
A38: The fifth tab provides the meal period breakdown hours and policies.

Sheet Expense Report
A1: 2026 LADCO EXPENSE REPORT
A2: All form fields must be completed | J2: 46023
A4: Name:
A5: Mailing Address:
A7: Phone:
A8: Agency:
A9: Purpose of Travel:
A10: Destination:
A12: Start (MM/DD/YYYY HH:MM)
A13: End (MM/DD/YYYY HH:MM)
A14: Federal Per Diem Rate | E14: Federal Mileage Rate | H14: $0.72.5
A16: Date | B16: Transp. (1) | C16: Lodging | D16: Taxi/Shuttle | E16: Parking | F16: Meals (2) | I16: Other (3) | J16: Total
F17: Breakfast: | H17: =IF(ISNA(IF(G17<>"",VLOOKUP(C$14,'FY26 M&IE Rates'!A$2:D$6,2,FALSE),"")),"",IF(G17<>"",VLOOKUP(C$14,'FY26 M&IE Rates'!A$2:D$6,2,FALSE),"")) | I17: 0 | J17: =SUM(B17,C17,D17,E17,H17,H18,H19,I17) -> 0
F18: Lunch: | H18: =IF(ISNA(IF(G18<>"",VLOOKUP(C$14,'FY26 M&IE Rates'!A$2:D$6,3,FALSE),"")),"",IF(G18<>"",VLOOKUP(C$14,'FY26 M&IE Rates'!A$2:D$6,3,FALSE),""))
F19: Dinner: | H19: =IF(ISNA(IF(G19<>"",VLOOKUP(C$14,'FY26 M&IE Rates'!A$2:D$6,4,FALSE),"")),"",IF(G19<>"",VLOOKUP(C$14,'FY26 M&IE Rates'!A$2:D$6,4,FALSE),""))
F20: Breakfast: | H20: =IF(ISNA(IF(G20<>"",VLOOKUP(C$14,'FY26 M&IE Rates'!A$2:D$6,2,FALSE),"")),"",IF(G20<>"",VLOOKUP(C$14,'FY26 M&IE Rates'!A$2:D$6,2,FALSE),"")) | I20: 0 | J20: =SUM(B20,C20,D20,E20,H20,H21,H22,I20) -> 0
F21: Lunch: | H21: =IF(ISNA(IF(G21<>"",VLOOKUP(C$14,'FY26 M&IE Rates'!A$2:D$6,3,FALSE),"")),"",IF(G21<>"",VLOOKUP(C$14,'FY26 M&IE Rates'!A$2:D$6,3,FALSE),""))
F22: Dinner: | H22: =IF(ISNA(IF(G22<>"",VLOOKUP(C$14,'FY26 M&IE Rates'!A$2:D$6,4,FALSE),"")),"",IF(G22<>"",VLOOKUP(C$14,'FY26 M&IE Rates'!A$2:D$6,4,FALSE),""))
F23: Breakfast: | H23: =IF(ISNA(IF(G23<>"",VLOOKUP(C$14,'FY26 M&IE Rates'!A$2:D$6,2,FALSE),"")),"",IF(G23<>"",VLOOKUP(C$14,'FY26 M&IE Rates'!A$2:D$6,2,FALSE),"")) | I23: 0 | J23: =SUM(B23,C23,D23,E23,H23,H24,H25,I23) -> 0
F24: Lunch: | H24: =IF(ISNA(IF(G24<>"",VLOOKUP(C$14,'FY26 M&IE Rates'!A$2:D$6,3,FALSE),"")),"",IF(G24<>"",VLOOKUP(C$14,'FY26 M&IE Rates'!A$2:D$6,3,FALSE),""))
F25: Dinner: | H25: =IF(ISNA(IF(G25<>"",VLOOKUP(C$14,'FY26 M&IE Rates'!A$2:D$6,4,FALSE),"")),"",IF(G25<>"",VLOOKUP(C$14,'FY26 M&IE Rates'!A$2:D$6,4,FALSE),""))
F26: Breakfast: | H26: =IF(ISNA(IF(G26<>"",VLOOKUP(C$14,'FY26 M&IE Rates'!A$2:D$6,2,FALSE),"")),"",IF(G26<>"",VLOOKUP(C$14,'FY26 M&IE Rates'!A$2:D$6,2,FALSE),"")) | I26: 0 | J26: =SUM(B26,C26,D26,E26,H26,H27,H28,I26) -> 0
F27: Lunch: | H27: =IF(ISNA(IF(G27<>"",VLOOKUP(C$14,'FY26 M&IE Rates'!A$2:D$6,3,FALSE),"")),"",IF(G27<>"",VLOOKUP(C$14,'FY26 M&IE Rates'!A$2:D$6,3,FALSE),""))
F28: Dinner: | H28: =IF(ISNA(IF(G28<>"",VLOOKUP(C$14,'FY26 M&IE Rates'!A$2:D$6,4,FALSE),"")),"",IF(G28<>"",VLOOKUP(C$14,'FY26 M&IE Rates'!A$2:D$6,4,FALSE),""))
F29: Breakfast: | H29: =IF(ISNA(IF(G29<>"",VLOOKUP(C$14,'FY26 M&IE Rates'!A$2:D$6,2,FALSE),"")),"",IF(G29<>"",VLOOKUP(C$14,'FY26 M&IE Rates'!A$2:D$6,2,FALSE),"")) | J29: =SUM(B29,C29,D29,E29,H29,H30,H31,I29) -> 0
F30: Lunch: | H30: =IF(ISNA(IF(G30<>"",VLOOKUP(C$14,'FY26 M&IE Rates'!A$2:D$6,3,FALSE),"")),"",IF(G30<>"",VLOOKUP(C$14,'FY26 M&IE Rates'!A$2:D$6,3,FALSE),""))
F31: Dinner: | H31: =IF(ISNA(IF(G31<>"",VLOOKUP(C$14,'FY26 M&IE Rates'!A$2:D$6,4,FALSE),"")),"",IF(G31<>"",VLOOKUP(C$14,'FY26 M&IE Rates'!A$2:D$6,4,FALSE),""))
F32: Breakfast: | H32: =IF(ISNA(IF(G32<>"",VLOOKUP(C$14,'FY26 M&IE Rates'!A$2:D$6,2,FALSE),"")),"",IF(G32<>"",VLOOKUP(C$14,'FY26 M&IE Rates'!A$2:D$6,2,FALSE),"")) | J32: =SUM(B32,C32,D32,E32,H32,H33,H34,I32) -> 0
F33: Lunch: | H33: =IF(ISNA(IF(G33<>"",VLOOKUP(C$14,'FY26 M&IE Rates'!A$2:D$6,3,FALSE),"")),"",IF(G33<>"",VLOOKUP(C$14,'FY26 M&IE Rates'!A$2:D$6,3,FALSE),""))
F34: Dinner: | H34: =IF(ISNA(IF(G34<>"",VLOOKUP(C$14,'FY26 M&IE Rates'!A$2:D$6,4,FALSE),"")),"",IF(G34<>"",VLOOKUP(C$14,'FY26 M&IE Rates'!A$2:D$6,4,FALSE),""))
F35: Breakfast: | H35: =IF(ISNA(IF(G35<>"",VLOOKUP(C$14,'FY26 M&IE Rates'!A$2:D$6,2,FALSE),"")),"",IF(G35<>"",VLOOKUP(C$14,'FY26 M&IE Rates'!A$2:D$6,2,FALSE),"")) | J35: =SUM(B35,C35,D35,E35,H35,H36,H37,I35) -> 0
F36: Lunch: | H36: =IF(ISNA(IF(G36<>"",VLOOKUP(C$14,'FY26 M&IE Rates'!A$2:D$6,3,FALSE),"")),"",IF(G36<>"",VLOOKUP(C$14,'FY26 M&IE Rates'!A$2:D$6,3,FALSE),""))
F37: Dinner: | H37: =IF(ISNA(IF(G37<>"",VLOOKUP(C$14,'FY26 M&IE Rates'!A$2:D$6,4,FALSE),"")),"",IF(G37<>"",VLOOKUP(C$14,'FY26 M&IE Rates'!A$2:D$6,4,FALSE),""))
F38: Breakfast: | H38: =IF(ISNA(IF(G38<>"",VLOOKUP(C$14,'FY26 M&IE Rates'!A$2:D$6,2,FALSE),"")),"",IF(G38<>"",VLOOKUP(C$14,'FY26 M&IE Rates'!A$2:D$6,2,FALSE),"")) | J38: =SUM(B38,C38,D38,E38,H38,H39,H40,I38) -> 0
F39: Lunch: | H39: =IF(ISNA(IF(G39<>"",VLOOKUP(C$14,'FY26 M&IE Rates'!A$2:D$6,3,FALSE),"")),"",IF(G39<>"",VLOOKUP(C$14,'FY26 M&IE Rates'!A$2:D$6,3,FALSE),""))
F40: Dinner: | H40: =IF(ISNA(IF(G40<>"",VLOOKUP(C$14,'FY26 M&IE Rates'!A$2:D$6,4,FALSE),"")),"",IF(G40<>"",VLOOKUP(C$14,'FY26 M&IE Rates'!A$2:D$6,4,FALSE),""))
A41: Totals | B41: =SUM(B17:B40) -> 0 | C41: =SUM(C17:C40) -> 0 | D41: =SUM(D17:D40) -> 0 | E41: =SUM(E17:E40) -> 0 | F41: =SUM(H17:H40) -> 0 | I41: =SUM(I17:I40) -> 0 | J41: =SUM(J17:J40) -> 0
A43: Notes/Instructions:
A44: (1) Transportation includes airfare, car rental and related fuel, and mileage for personal automobiles. For personal automobiles,
A45: the current federal mileage reimbursement rate applies. As of January 2026, this reimbursement rate is $0.72.5/mile.
...

Sheet FY26 M&IE Rates
A1: M&IE Total | B1: Breakfast | C1: Lunch | D1: Dinner | E1: Incidental
A2: 68 | B2: 16 | C2: 19 | D2: 28 | E2: 5
A3: 74 | B3: 18 | C3: 20 | D3: 31 | E3: 5
A4: 80 | B4: 20 | C4: 22 | D4: 33 | E4: 5
A5: 86 | B5: 22 | C5: 23 | D5: 36 | E5: 5
A6: 92 | B6: 23 | C6: 26 | D6: 38 | E6: 5
A8: 1) Use the GSA website to find the M&IE Total for a travel destination.
A9: 2) Entire the M&IE Total for the destination in cell C14 in the Expense Report
A10: 3) Add an "X" to the boxes in Column G for the meals for which you are requesting reimbursement on each day
A11: 4) Use the Meal Breakdown tab to clarify which meals can be reimbursed during travel

Sheet Meal Breakdown
A1: Meals are reimbursed based on the time of an employee's travel. The following times of day will be used to calculate meal expenses:
B2: Start time | C2: End time
A3: Breakfast | B3: 0.25 | C3: 0.41666667
A4: Lunch | B4: 0.45833333 | C4: 0.58333333
A5: Dinner | B5: 0.70833333 | C5: 0.875
A7: Example: If travel begins at 8:00 a.m. on Day 1 and concludes at 3:00 p.m. on Day 2, the traveler will be reimbursed
A8: at the applicable Federal Reimbursement (per diem) Rate for breakfast, lunch, and dinner on Day 1, and for breakfast and lunch on Day 2.
A9: Meals provided by a conference, training, or meeting are not eligible for reimbursement for the corresponding meal period.
A10: If you are provided a meal by the conference/training/meeting you are attending, you are not eligible
A11: to seek reimbursement for that meal period.
A13: A trip starts when the traveler leaves for the airport, or starts using other forms of transportation to begin their work travel.
A15: A trip ends when the traveler completes their use of transportation following the work travel, including a personal automobile.
A17: Receipts are not required for reimbursement of meal expenses. LADCO does not reimburse for alcohol.

Sheet Sample Report
A1: 2026 LADCO EXPENSE REPORT
J2: 46023
A3: Name: | B3: James Smith
A4: Address: | B4: 444 Universal Blvd.
B5: Chicago, IL 60578
A6: Phone: | B6: 989-739-3304
A7: Agency: | B7: IL EPA
A8: Purpose of Travel: | B8: Aeromod Training
A9: Destination: | B9: Denver, CO
A11: Start (MM/DD/YYYY HH:MM) | C11: 46006.542
A12: End (MM/DD/YYYY HH:MM) | C12: 46011.917
A13: Federal Per Diem Rate | C13: 68 | E13: Federal Mileage Rate | H13: $0.72.5
A15: Date | B15: Transp. (1) | C15: Lodging | D15: Taxi/Shuttle | E15: Parking | F15: Meals (2) | I15: Other (3) | J15: Total
A16: 46006 | D16: 69 | F16: Breakfast: | H16: =IF(ISNA(IF(G16<>"",VLOOKUP(C$13,'[1]FY26 M&IE Rates'!A$2:D$6,2,FALSE),"")),"",IF(G16<>"",VLOOKUP(C$13,'[1]FY26 M&IE Rates'!A$2:D$6,2,FALSE),"")) | I16: 0 | J16: =SUM(B16,C16,D16,E16,H16,H17,H18,I16) -> 116
F17: Lunch: | G17: X | H17: =IF(ISNA(IF(G17<>"",VLOOKUP(C$13,'[1]FY26 M&IE Rates'!A$2:D$6,3,FALSE),"")),"",IF(G17<>"",VLOOKUP(C$13,'[1]FY26 M&IE Rates'!A$2:D$6,3,FALSE),"")) -> 19
F18: Dinner: | G18: X | H18: =IF(ISNA(IF(G18<>"",VLOOKUP(C$13,'[1]FY26 M&IE Rates'!A$2:D$6,4,FALSE),"")),"",IF(G18<>"",VLOOKUP(C$13,'[1]FY26 M&IE Rates'!A$2:D$6,4,FALSE),"")) -> 28
A19: 46007 | F19: Breakfast: | G19: X | H19: =IF(ISNA(IF(G19<>"",VLOOKUP(C$13,'[1]FY26 M&IE Rates'!A$2:D$6,2,FALSE),"")),"",IF(G19<>"",VLOOKUP(C$13,'[1]FY26 M&IE Rates'!A$2:D$6,2,FALSE),"")) -> 16 | I19: 5 | J19: =SUM(B19,C19,D19,E19,H19,H20,H21,I19) -> 68
F20: Lunch: | G20: X | H20: =IF(ISNA(IF(G20<>"",VLOOKUP(C$13,'[1]FY26 M&IE Rates'!A$2:D$6,3,FALSE),"")),"",IF(G20<>"",VLOOKUP(C$13,'[1]FY26 M&IE Rates'!A$2:D$6,3,FALSE),"")) -> 19
F21: Dinner: | G21: X | H21: =IF(ISNA(IF(G21<>"",VLOOKUP(C$13,'[1]FY26 M&IE Rates'!A$2:D$6,4,FALSE),"")),"",IF(G21<>"",VLOOKUP(C$13,'[1]FY26 M&IE Rates'!A$2:D$6,4,FALSE),"")) -> 28
A22: 46008 | F22: Breakfast: | G22: X | H22: =IF(ISNA(IF(G22<>"",VLOOKUP(C$13,'[1]FY26 M&IE Rates'!A$2:D$6,2,FALSE),"")),"",IF(G22<>"",VLOOKUP(C$13,'[1]FY26 M&IE Rates'!A$2:D$6,2,FALSE),"")) -> 16 | I22: 5 | J22: =SUM(B22,C22,D22,E22,H22,H23,H24,I22) -> 68
F23: Lunch: | G23: X | H23: =IF(ISNA(IF(G23<>"",VLOOKUP(C$13,'[1]FY26 M&IE Rates'!A$2:D$6,3,FALSE),"")),"",IF(G23<>"",VLOOKUP(C$13,'[1]FY26 M&IE Rates'!A$2:D$6,3,FALSE),"")) -> 19
F24: Dinner: | G24: X | H24: =IF(ISNA(IF(G24<>"",VLOOKUP(C$13,'[1]FY26 M&IE Rates'!A$2:D$6,4,FALSE),"")),"",IF(G24<>"",VLOOKUP(C$13,'[1]FY26 M&IE Rates'!A$2:D$6,4,FALSE),"")) -> 28
A25: 46009 | F25: Breakfast: | G25: X | H25: =IF(ISNA(IF(G25<>"",VLOOKUP(C$13,'[1]FY26 M&IE Rates'!A$2:D$6,2,FALSE),"")),"",IF(G25<>"",VLOOKUP(C$13,'[1]FY26 M&IE Rates'!A$2:D$6,2,FALSE),"")) -> 16 | I25: 5 | J25: =SUM(B25,C25,D25,E25,H25,H26,H27,I25) -> 68
F26: Lunch: | G26: X | H26: =IF(ISNA(IF(G26<>"",VLOOKUP(C$13,'[1]FY26 M&IE Rates'!A$2:D$6,3,FALSE),"")),"",IF(G26<>"",VLOOKUP(C$13,'[1]FY26 M&IE Rates'!A$2:D$6,3,FALSE),"")) -> 19
F27: Dinner: | G27: X | H27: =IF(ISNA(IF(G27<>"",VLOOKUP(C$13,'[1]FY26 M&IE Rates'!A$2:D$6,4,FALSE),"")),"",IF(G27<>"",VLOOKUP(C$13,'[1]FY26 M&IE Rates'!A$2:D$6,4,FALSE),"")) -> 28
A28: 46010 | F28: Breakfast: | G28: X | H28: =IF(ISNA(IF(G28<>"",VLOOKUP(C$13,'[1]FY26 M&IE Rates'!A$2:D$6,2,FALSE),"")),"",IF(G28<>"",VLOOKUP(C$13,'[1]FY26 M&IE Rates'!A$2:D$6,2,FALSE),"")) -> 16 | I28: 5 | J28: =SUM(B28,C28,D28,E28,H28,H29,H30,I28) -> 68
F29: Lunch: | G29: X | H29: =IF(ISNA(IF(G29<>"",VLOOKUP(C$13,'[1]FY26 M&IE Rates'!A$2:D$6,3,FALSE),"")),"",IF(G29<>"",VLOOKUP(C$13,'[1]FY26 M&IE Rates'!A$2:D$6,3,FALSE),"")) -> 19
F30: Dinner: | G30: X | H30: =IF(ISNA(IF(G30<>"",VLOOKUP(C$13,'[1]FY26 M&IE Rates'!A$2:D$6,4,FALSE),"")),"",IF(G30<>"",VLOOKUP(C$13,'[1]FY26 M&IE Rates'!A$2:D$6,4,FALSE),"")) -> 28
A31: 46011 | D31: 72 | E31: 120 | F31: Breakfast: | G31: X | H31: =IF(ISNA(IF(G31<>"",VLOOKUP(C$13,'[1]FY26 M&IE Rates'!A$2:D$6,2,FALSE),"")),"",IF(G31<>"",VLOOKUP(C$13,'[1]FY26 M&IE Rates'!A$2:D$6,2,FALSE),"")) -> 16 | I31: 5 | J31: =SUM(B31,C31,D31,E31,H31,H32,H33,I31) -> 260
F32: Lunch: | G32: X | H32: =IF(ISNA(IF(G32<>"",VLOOKUP(C$13,'[1]FY26 M&IE Rates'!A$2:D$6,3,FALSE),"")),"",IF(G32<>"",VLOOKUP(C$13,'[1]FY26 M&IE Rates'!A$2:D$6,3,FALSE),"")) -> 19
F33: Dinner: | G33: X | H33: =IF(ISNA(IF(G33<>"",VLOOKUP(C$13,'[1]FY26 M&IE Rates'!A$2:D$6,4,FALSE),"")),"",IF(G33<>"",VLOOKUP(C$13,'[1]FY26 M&IE Rates'!A$2:D$6,4,FALSE),"")) -> 28
F34: Breakfast: | H34: =IF(ISNA(IF(G34<>"",VLOOKUP(C$13,'[1]FY26 M&IE Rates'!A$2:D$6,2,FALSE),"")),"",IF(G34<>"",VLOOKUP(C$13,'[1]FY26 M&IE Rates'!A$2:D$6,2,FALSE),"")) | J34: =SUM(B34,C34,D34,E34,H34,H35,H36,I34) -> 0
F35: Lunch: | H35: =IF(ISNA(IF(G35<>"",VLOOKUP(C$13,'[1]FY26 M&IE Rates'!A$2:D$6,3,FALSE),"")),"",IF(G35<>"",VLOOKUP(C$13,'[1]FY26 M&IE Rates'!A$2:D$6,3,FALSE),""))
F36: Dinner: | H36: =IF(ISNA(IF(G36<>"",VLOOKUP(C$13,'[1]FY26 M&IE Rates'!A$2:D$6,4,FALSE),"")),"",IF(G36<>"",VLOOKUP(C$13,'[1]FY26 M&IE Rates'!A$2:D$6,4,FALSE),""))
F37: Breakfast: | H37: =IF(ISNA(IF(G37<>"",VLOOKUP(C$13,'[1]FY26 M&IE Rates'!A$2:D$6,2,FALSE),"")),"",IF(G37<>"",VLOOKUP(C$13,'[1]FY26 M&IE Rates'!A$2:D$6,2,FALSE),"")) | J37: =SUM(B37,C37,D37,E37,H37,H38,H39,I37) -> 0
F38: Lunch: | H38: =IF(ISNA(IF(G38<>"",VLOOKUP(C$13,'[1]FY26 M&IE Rates'!A$2:D$6,3,FALSE),"")),"",IF(G38<>"",VLOOKUP(C$13,'[1]FY26 M&IE Rates'!A$2:D$6,3,FALSE),""))
F39: Dinner: | H39: =IF(ISNA(IF(G39<>"",VLOOKUP(C$13,'[1]FY26 M&IE Rates'!A$2:D$6,4,FALSE),"")),"",IF(G39<>"",VLOOKUP(C$13,'[1]FY26 M&IE Rates'!A$2:D$6,4,FALSE),""))
A40: Totals | B40: =SUM(B16:B39) -> 0 | C40: =SUM(C16:C39) -> 0 | D40: =SUM(D16:D39) -> 141 | E40: =SUM(E16:E39) -> 120 | F40: =SUM(H16:H39) -> 362 | I40: =SUM(I16:I39) -> 25 | J40: =SUM(J16:J39) -> 648
A42: Notes/Instructions:
A43: (1) Transportation includes airfare, car rental and related fuel, and mileage for personal automobiles. For personal automobiles,
...
